BEGIN:VCALENDAR
PRODID:-//AT Content Types//AT Event//EN
VERSION:2.0
METHOD:PUBLISH
BEGIN:VEVENT
DTSTAMP:20260423T115051Z
CREATED:20220201T162924Z
UID:ATEvent-a62097e13cc54a39b34818e872796b7a
LAST-MODIFIED:20220208T192903Z
SUMMARY:Nature Exploration & Play
DTSTART:20220323T130000Z
DTEND:20220323T150000Z
DESCRIPTION:The Foothills Equestrian Nature Center\, FENCE\, will offe
 r a new early childhood program that focuses on getting children outdo
 ors to play and explore. The new program\, Nature exploration & play\,
  will focus on our youngest learners aged 0-6 years old. Registration 
 is required.
LOCATION:FENCE Center
CATEGORIES:Nature Program
CONTACT:8288599021\, info@fence.org
CLASS:PUBLIC
END:VEVENT
END:VCALENDAR
