BEGIN:VCALENDAR
PRODID:-//AT Content Types//AT Event//EN
VERSION:1.0
BEGIN:VEVENT
DTSTART:20220321T130000Z
DTEND:20220321T150000Z
DCREATED:20220201T162745Z
UID:ATEvent-721ac3c8430a4cdb93b8dad056e648f0
SEQUENCE:0
LAST-MODIFIED:20220208T192911Z
SUMMARY:Nature Exploration & Play
DESCRIPTION:The Foothills Equestrian Nature Center\, FENCE\, will offe
 r a new early childhood program that focuses on getting children outdo
 ors to play and explore. The new program\, Nature exploration & play\,
  will focus on our youngest learners aged 0-6 years old. Registration 
 is required.
LOCATION:FENCE Center
PRIORITY:3
TRANSP:0
END:VEVENT
END:VCALENDAR
