BEGIN:VCALENDAR
PRODID:-//AT Content Types//AT Event//EN
VERSION:1.0
BEGIN:VEVENT
DTSTART:20220509T130000Z
DTEND:20220509T150000Z
DCREATED:20220411T144505Z
UID:ATEvent-eb2d4b50c4e94e468364ff1f78e05885
SEQUENCE:0
LAST-MODIFIED:20220411T144505Z
SUMMARY:Nature Exploration & Play
DESCRIPTION:The Foothills Equestrian Nature Center\, FENCE\, will offe
 r a new early childhood program that focuses on getting children outdo
 ors to play and explore. The new program\, Nature exploration & play\,
  will focus on our youngest learners aged 0-6 years old. Registration 
 is required.
LOCATION:FENCE Center
PRIORITY:3
TRANSP:0
END:VEVENT
END:VCALENDAR
