BEGIN:VCALENDAR
PRODID:-//AT Content Types//AT Event//EN
VERSION:2.0
METHOD:PUBLISH
BEGIN:VEVENT
DTSTAMP:20260423T105252Z
CREATED:20220411T144156Z
UID:ATEvent-7f57002883e1409fbf666b2410585a9e
LAST-MODIFIED:20220411T144157Z
SUMMARY:Nature Exploration & Play
DTSTART:20220425T130000Z
DTEND:20220425T150000Z
DESCRIPTION:The Foothills Equestrian Nature Center\, FENCE\, will offe
 r a new early childhood program that focuses on getting children outdo
 ors to play and explore. The new program\, Nature exploration & play\,
  will focus on our youngest learners aged 0-6 years old. Registration 
 is required.
LOCATION:FENCE Center
CATEGORIES:Nature Program
CONTACT:8288599021\, info@fence.org
CLASS:PUBLIC
END:VEVENT
END:VCALENDAR
