BEGIN:VCALENDAR
PRODID:-//AT Content Types//AT Event//EN
VERSION:2.0
METHOD:PUBLISH
BEGIN:VEVENT
DTSTAMP:20260423T115057Z
CREATED:20220201T162025Z
UID:ATEvent-292d7bde6d3a47358006ad4a575ce812
LAST-MODIFIED:20220208T192532Z
SUMMARY:Nature Exploration & Play
DTSTART:20220223T140000Z
DTEND:20220223T160000Z
DESCRIPTION:The Foothills Equestrian Nature Center\, FENCE\, will offe
 r a new early childhood program that focuses on getting children outdo
 ors to play and explore. The new program\, Nature exploration & play\,
  will focus on our youngest learners aged 0-6 years old. Registration 
 is required.
LOCATION:FENCE Center
CATEGORIES:Nature Program
CONTACT:8288599021\, info@fence.org
CLASS:PUBLIC
END:VEVENT
END:VCALENDAR
