BEGIN:VCALENDAR
PRODID:-//AT Content Types//AT Event//EN
VERSION:2.0
METHOD:PUBLISH
BEGIN:VEVENT
DTSTAMP:20260423T115008Z
CREATED:20220201T162541Z
UID:ATEvent-fb59b6a2b0244dd59b91fa648f7c5d33
LAST-MODIFIED:20220208T192739Z
SUMMARY:Nature Exploartion & Play
DTSTART:20220309T140000Z
DTEND:20220309T160000Z
DESCRIPTION:The Foothills Equestrian Nature Center\, FENCE\, will offe
 r a new early childhood program that focuses on getting children outdo
 ors to play and explore. The new program\, Nature exploration & play\,
  will focus on our youngest learners aged 0-6 years old. Registration 
 is required.
LOCATION:FENCE Center
CATEGORIES:Nature Program
CONTACT:8288599021\, info@fence.org
CLASS:PUBLIC
END:VEVENT
END:VCALENDAR
