BEGIN:VCALENDAR
PRODID:-//AT Content Types//AT Event//EN
VERSION:1.0
BEGIN:VEVENT
DTSTART:20190312T190000Z
DTEND:20190312T210000Z
DCREATED:20190103T211512Z
UID:ATEvent-17b46c2c2e8043298f0a61edd9273940
SEQUENCE:0
LAST-MODIFIED:20190103T211512Z
SUMMARY:Nature Club
DESCRIPTION:Kids Nature Club is offered free and is open to the public
  and will be held on a drop in basis\, so adults should plan to accomp
 any their children while at FENCE. Families are encouraged to bring th
 eir kids by for Kids Nature Club but also spend some time during their
  visit exploring the trails. Ideal for children ages 5-12.
LOCATION:FENCE Center
PRIORITY:3
TRANSP:0
END:VEVENT
END:VCALENDAR
