BEGIN:VCALENDAR
PRODID:-//AT Content Types//AT Event//EN
VERSION:1.0
BEGIN:VEVENT
DTSTART:20190219T200000Z
DTEND:20190219T220000Z
DCREATED:20190103T211341Z
UID:ATEvent-75d5376c528f43d4b885f3dfe9555b09
SEQUENCE:0
LAST-MODIFIED:20190123T164827Z
SUMMARY:Nature Club
DESCRIPTION:This month's theme is "space". Kids Nature Club is offered
  free and is open to the public and will be held on a drop in basis\, 
 so adults should plan to accompany their children while at FENCE. Fami
 lies are encouraged to bring their kids by for Kids Nature Club but al
 so spend some time during their visit exploring the trails. Ideal for 
 children ages 5-12.
LOCATION:FENCE Center
PRIORITY:3
TRANSP:0
END:VEVENT
END:VCALENDAR
