BEGIN:VCALENDAR
PRODID:-//AT Content Types//AT Event//EN
VERSION:1.0
BEGIN:VEVENT
DTSTART:20210712T123000Z
DTEND:20210716T163000Z
DCREATED:20210317T124926Z
UID:ATEvent-bde68e90464643978e52e5365521aaf9
SEQUENCE:0
LAST-MODIFIED:20210317T124926Z
SUMMARY:Nature/Art Camp
LOCATION:FENCE Center
PRIORITY:3
TRANSP:0
END:VEVENT
END:VCALENDAR
