BEGIN:VCALENDAR
PRODID:-//AT Content Types//AT Event//EN
VERSION:2.0
METHOD:PUBLISH
BEGIN:VEVENT
DTSTAMP:20260420T172833Z
CREATED:20251217T181022Z
UID:ATEvent-367f24fcbb0e4b64842c1de18eb22ff2
LAST-MODIFIED:20251217T181033Z
SUMMARY:Nature / Art Camp
DTSTART:20260706T130000Z
DTEND:20260710T170000Z
CATEGORIES:Childrens Day Camp
CONTACT:ashley@fence.org
CLASS:PUBLIC
END:VEVENT
END:VCALENDAR
