BEGIN:VCALENDAR
PRODID:-//AT Content Types//AT Event//EN
VERSION:2.0
METHOD:PUBLISH
BEGIN:VEVENT
DTSTAMP:20260420T104728Z
CREATED:20241119T150002Z
UID:ATEvent-1bc261bfb9bf4f4aba19f30ac228bcb7
LAST-MODIFIED:20241119T150029Z
SUMMARY:Nature Art Camp
DTSTART:20250707T120000Z
DTEND:20250711T210000Z
DESCRIPTION:Details to come.
CATEGORIES:Childrens Day Camp
CLASS:PUBLIC
END:VEVENT
END:VCALENDAR
