BEGIN:VCALENDAR
PRODID:-//AT Content Types//AT Event//EN
VERSION:1.0
BEGIN:VEVENT
DTSTART:20240712T123000Z
DTEND:20240712T163000Z
DCREATED:20230928T192658Z
UID:ATEvent-b52a94334668455080f7589466cccdfe
SEQUENCE:0
LAST-MODIFIED:20230928T192658Z
SUMMARY:Nature / Art Camp
DESCRIPTION:Half Day $ 225
LOCATION:FENCE Center
PRIORITY:3
TRANSP:0
END:VEVENT
END:VCALENDAR
