BEGIN:VCALENDAR
PRODID:-//AT Content Types//AT Event//EN
VERSION:1.0
BEGIN:VEVENT
DTSTART:20240711T123000Z
DTEND:20240711T163000Z
DCREATED:20230928T192444Z
UID:ATEvent-c55e7cc6284043699aaf83cd332a12af
SEQUENCE:0
LAST-MODIFIED:20230928T192444Z
SUMMARY:Nature / Art Camp
DESCRIPTION:Half Day $225
LOCATION:FENCE Center
PRIORITY:3
TRANSP:0
END:VEVENT
END:VCALENDAR
