BEGIN:VCALENDAR
PRODID:-//AT Content Types//AT Event//EN
VERSION:1.0
BEGIN:VEVENT
DTSTART:20240710T123000Z
DTEND:20240710T163000Z
DCREATED:20230928T192352Z
UID:ATEvent-47e34694136a4507831587edb97cacb0
SEQUENCE:0
LAST-MODIFIED:20230928T192352Z
SUMMARY:Nature / Art Camp
DESCRIPTION:Half Day $225
LOCATION:FENCE Center
PRIORITY:3
TRANSP:0
END:VEVENT
END:VCALENDAR
