BEGIN:VCALENDAR
PRODID:-//AT Content Types//AT Event//EN
VERSION:2.0
METHOD:PUBLISH
BEGIN:VEVENT
DTSTAMP:20260423T142242Z
CREATED:20230928T192024Z
UID:ATEvent-8b1b59b5e19e4c71b23912be59231fbd
LAST-MODIFIED:20230928T192024Z
SUMMARY:Nature / Art Camp
DTSTART:20240709T123000Z
DTEND:20240709T163000Z
DESCRIPTION:Half Day $225
LOCATION:FENCE Center
CATEGORIES:Childrens Day Camp
CONTACT:8288599021\, info@fence.org
CLASS:PUBLIC
END:VEVENT
END:VCALENDAR
