BEGIN:VCALENDAR
PRODID:-//AT Content Types//AT Event//EN
VERSION:1.0
BEGIN:VEVENT
DTSTART:20240708T123000Z
DTEND:20240708T163000Z
DCREATED:20230928T191023Z
UID:ATEvent-7fb93c4e5cac487687ff27e2b3131014
SEQUENCE:0
LAST-MODIFIED:20230928T191023Z
SUMMARY:Nature / Art Camp
DESCRIPTION:Half Day $225
LOCATION:FENCE Center
PRIORITY:3
TRANSP:0
END:VEVENT
END:VCALENDAR
