BEGIN:VCALENDAR
PRODID:-//AT Content Types//AT Event//EN
VERSION:2.0
METHOD:PUBLISH
BEGIN:VEVENT
DTSTAMP:20260420T192338Z
CREATED:20230117T200759Z
UID:ATEvent-1fa020c96ed040f0882272152a174b5d
LAST-MODIFIED:20230119T213548Z
SUMMARY:Nature/Art Camp
DTSTART:20230710T123000Z
DTEND:20230714T163000Z
DESCRIPTION:Nature/Art camp features local artists leading campers in 
 the creation of several pieces using different mediums. Nature hikes a
 nd exploring. The end of camp features an exhibition show for parents 
 so that campers can show off their work. Camp is $125 per camper and h
 eld 8:30 am – 12:30 pm
LOCATION:FENCE Center
CATEGORIES:Childrens Day Camp
CONTACT:Tracie Hanson\, 8288599021\, info@fence.org
CLASS:PUBLIC
END:VEVENT
END:VCALENDAR
