BEGIN:VCALENDAR
PRODID:-//AT Content Types//AT Event//EN
VERSION:1.0
BEGIN:VEVENT
DTSTART:20220711T123000Z
DTEND:20220715T163000Z
DCREATED:20211213T171655Z
UID:ATEvent-5075dbd0c8564b7fbf063cf708eb5f8a
SEQUENCE:0
LAST-MODIFIED:20220608T155052Z
SUMMARY:Nature/Art Camp
DESCRIPTION:This half day camp focuses on different art projects throu
 ghout the week. Create and use your imagination with lots of art proje
 cts to keep your camper busy. Campers will learn many different art me
 diums as well as the use of inspiration from their surroundings and na
 tural materials.
LOCATION:FENCE Center
PRIORITY:3
TRANSP:0
END:VEVENT
END:VCALENDAR
