BEGIN:VCALENDAR
PRODID:-//AT Content Types//AT Event//EN
VERSION:2.0
METHOD:PUBLISH
BEGIN:VEVENT
DTSTAMP:20260423T120220Z
CREATED:20170317T130902Z
UID:ATEvent-8ec985c7b72544a8bfe21de6ccca57a8
LAST-MODIFIED:20170317T130903Z
SUMMARY:Natural History of the Carolinas with Todd Elliott
DTSTART:20170325T150000Z
DTEND:20170325T160000Z
DESCRIPTION:Todd Elliott will give a presentation on the Natural Histo
 ry of the Carolinas. Todd Elliott's talk will be filled with his award
  winning photographs and encompass science\, natural history\, folklor
 e\, ecology\, and the biodiversity of the Carolinas.
LOCATION:FENCE Center
CATEGORIES:Family
CONTACT:Tracie Hanson\, 8288599021\, info@fence.org
CLASS:PUBLIC
END:VEVENT
END:VCALENDAR
