BEGIN:VCALENDAR
PRODID:-//AT Content Types//AT Event//EN
VERSION:2.0
METHOD:PUBLISH
BEGIN:VEVENT
DTSTAMP:20260423T120438Z
CREATED:20211213T172453Z
UID:ATEvent-e756fd6876224ad1938f7bd34bb50676
LAST-MODIFIED:20220726T125034Z
SUMMARY:National Pony Club Rating
DTSTART:20220812T120000Z
DTEND:20220814T220000Z
LOCATION:Equestrian side
CATEGORIES:Horse Show
CLASS:PUBLIC
END:VEVENT
END:VCALENDAR
