BEGIN:VCALENDAR
PRODID:-//AT Content Types//AT Event//EN
VERSION:2.0
METHOD:PUBLISH
BEGIN:VEVENT
DTSTAMP:20260420T101449Z
CREATED:20210122T203906Z
UID:ATEvent-ab66c51c28a04648804258d85827b19a
LAST-MODIFIED:20210122T203906Z
SUMMARY:National Pony Club Rally
DTSTART:20210812T120000Z
DTEND:20210815T210000Z
LOCATION:FENCE Equestrian Side
CATEGORIES:Horse Show
CLASS:PUBLIC
END:VEVENT
END:VCALENDAR
