BEGIN:VCALENDAR
PRODID:-//AT Content Types//AT Event//EN
VERSION:2.0
METHOD:PUBLISH
BEGIN:VEVENT
DTSTAMP:20260423T142016Z
CREATED:20190805T175340Z
UID:ATEvent-a7a3d55a9d254ac4b08c1eeb3cf2b13f
LAST-MODIFIED:20190808T011009Z
SUMMARY:Mushroom walk
DTSTART:20190813T130000Z
DTEND:20190813T150000Z
DESCRIPTION:Free\, guided mushroom walk at FENCE. Meet at the FENCE ce
 nter. Please call FENCE (828-859-9021) or email (info@fence.org) to re
 gister for the walk.
LOCATION:Fence center
CATEGORIES:Nature Program
CONTACT:828-859-9021\, Info@fence.org
CLASS:PUBLIC
END:VEVENT
END:VCALENDAR
