BEGIN:VCALENDAR
PRODID:-//AT Content Types//AT Event//EN
VERSION:2.0
METHOD:PUBLISH
BEGIN:VEVENT
DTSTAMP:20260423T142411Z
CREATED:20170524T130241Z
UID:ATEvent-2e74ad1f4be64a4fbc96c71db89753ca
LAST-MODIFIED:20170524T130241Z
SUMMARY:Mushroom Walk with Charlotte Caplan
DTSTART:20170629T130000Z
DTEND:20170629T140000Z
DESCRIPTION:Whether you are an experienced mushroom hunter or you are 
 just interested in learning more about the mushroom world\, this shoul
 d be a fun and educational hike for all who attend! Following the hike
  Charlotte will lead an informal talk about mushrooms with time for Id
 entifying mushrooms found on the hike and questions.
LOCATION:FENCE Center
CATEGORIES:Family
CONTACT:Tracie Hanson\, 8288599021\, info@fence.org
CLASS:PUBLIC
END:VEVENT
END:VCALENDAR
