BEGIN:VCALENDAR
PRODID:-//AT Content Types//AT Event//EN
VERSION:2.0
METHOD:PUBLISH
BEGIN:VEVENT
DTSTAMP:20260423T191151Z
CREATED:20250619T153705Z
UID:ATEvent-87287c5fb9d44b099f7a3624b36461da
LAST-MODIFIED:20250619T154049Z
SUMMARY:Mushroom Talk & Hike
DTSTART:20250711T130000Z
DTEND:20250711T160000Z
CATEGORIES:Nature Program
CONTACT:Olga Katic\, olga@mushroommountain.com
CLASS:PUBLIC
END:VEVENT
END:VCALENDAR
