BEGIN:VCALENDAR
PRODID:-//AT Content Types//AT Event//EN
VERSION:1.0
BEGIN:VEVENT
DTSTART:20190317T160000Z
DTEND:20190317T200000Z
DCREATED:20190303T172431Z
UID:ATEvent-48ccd03838304b659f4e81929bd8cc02
SEQUENCE:0
LAST-MODIFIED:20190303T172431Z
SUMMARY:Mushroom log inoculation class
DESCRIPTION:Greg Carter\, of Deep Woods Mushroom\, will be offering a 
 mushroom inoculation class at FENCE. Pre-registration is required.
LOCATION:FENCE center
PRIORITY:3
TRANSP:0
END:VEVENT
END:VCALENDAR
