BEGIN:VCALENDAR
PRODID:-//AT Content Types//AT Event//EN
VERSION:1.0
BEGIN:VEVENT
DTSTART:20190331T130000Z
DTEND:20190331T160000Z
DCREATED:20190319T151859Z
UID:ATEvent-204f5c29c97e4ad89917e706bbd79d04
SEQUENCE:0
LAST-MODIFIED:20190319T151900Z
SUMMARY:Mushroom log class
DESCRIPTION:Greg Carter will be offering a mushroom inoculation class 
 at FENCE.
LOCATION:FENCE Center
PRIORITY:3
TRANSP:0
END:VEVENT
END:VCALENDAR
