BEGIN:VCALENDAR
PRODID:-//AT Content Types//AT Event//EN
VERSION:2.0
METHOD:PUBLISH
BEGIN:VEVENT
DTSTAMP:20260423T105227Z
CREATED:20150429T150613Z
UID:ATEvent-750f21b1-87bf-4798-8f50-79a8f0cefd02
LAST-MODIFIED:20150429T175112Z
SUMMARY:Cowboy Mounted Shooting Show
DTSTART:20150530T130000Z
DTEND:20150531T220000Z
DESCRIPTION:Cowboy Mounted Shooting\, one of the fastest growing\neque
 strian sports\, is an exciting display of horsemanship\nand marksmansh
 ip. Mounted contestants compete in this\nfast action timed event using
  two .45 caliber single action\nrevolvers each loaded with five rounds
  of specially\nprepared blank ammunition.
LOCATION:FENCE Equestrian Side
CATEGORIES:Horse Show
CONTACT:John Thurow\, SCMountedShooters@live.com
URL:http://www.scmountedshooters.com
CLASS:PUBLIC
END:VEVENT
END:VCALENDAR
