BEGIN:VCALENDAR
PRODID:-//AT Content Types//AT Event//EN
VERSION:1.0
BEGIN:VEVENT
DTSTART:20170325T120000Z
DTEND:20170326T210000Z
DCREATED:20170105T171907Z
UID:ATEvent-f8430b50c23d4426a2c0cef94d0b9533
SEQUENCE:0
LAST-MODIFIED:20170105T171908Z
SUMMARY:Mounted Shooters Horse Show
LOCATION:FENCE Equestrian Side
PRIORITY:3
TRANSP:0
END:VEVENT
END:VCALENDAR
