BEGIN:VCALENDAR
PRODID:-//AT Content Types//AT Event//EN
VERSION:1.0
BEGIN:VEVENT
DTSTART:20160723T130000Z
DTEND:20160723T160000Z
DCREATED:20160718T162201Z
UID:ATEvent-ac3854841d9a40e6be84ae082996d8bd
SEQUENCE:0
LAST-MODIFIED:20160722T223638Z
SUMMARY:RESCHEDULED DUE TO WEATHER: Mounted Poker Run
DESCRIPTION:Due to unforeseen weather today\, the mounted poker ride h
 as been rescheduled for this Sunday. Please check the website Sunday m
 orning before loading up to come to FENCE. We are sorry for the inconv
 enience.
LOCATION:Equestrian Side
PRIORITY:3
TRANSP:0
END:VEVENT
END:VCALENDAR
