BEGIN:VCALENDAR
PRODID:-//AT Content Types//AT Event//EN
VERSION:2.0
METHOD:PUBLISH
BEGIN:VEVENT
DTSTAMP:20260423T115610Z
CREATED:20170106T174654Z
UID:ATEvent-253c028ed500434c9d8b9e0c3d4ef5ea
LAST-MODIFIED:20170106T174654Z
SUMMARY:Mountain Laurel Hike at FENCE
DTSTART:20170603T120000Z
DTEND:20170603T133000Z
LOCATION:FENCE Center
CATEGORIES:Nature Program
CONTACT:Tracie Hanson\, 8288599021\, info@fence.org
CLASS:PUBLIC
END:VEVENT
END:VCALENDAR
