BEGIN:VCALENDAR
PRODID:-//AT Content Types//AT Event//EN
VERSION:2.0
METHOD:PUBLISH
BEGIN:VEVENT
DTSTAMP:20260423T142314Z
CREATED:20171114T175501Z
UID:ATEvent-40f495e083274a7d861a145203ef5ad7
LAST-MODIFIED:20171114T182308Z
SUMMARY:Moonlight Ride on Horse
DTSTART:20171201T223000Z
DTEND:20171202T020000Z
DESCRIPTION:Come and join us for a great night of riding under the moo
 n and stars! A full moon and glow sticks will lite up the pathway on t
 he cross country course. This is an event that will benefit FENCE's th
 erapeutic riding program with scholarships\, equipment needed\, and mu
 ch more. See the attached flier for more information.
LOCATION:FENCE Cross Country Course
CATEGORIES:Family
CONTACT:Tracie Hanson\, 8288599021\, info@fence.org
CLASS:PUBLIC
END:VEVENT
END:VCALENDAR
