BEGIN:VCALENDAR
PRODID:-//AT Content Types//AT Event//EN
VERSION:2.0
METHOD:PUBLISH
BEGIN:VEVENT
DTSTAMP:20260423T141115Z
CREATED:20260210T022928Z
UID:ATEvent-df487c9cfa004993abcae1b7469dfd9f
LAST-MODIFIED:20260223T141521Z
SUMMARY:Mommy & Me Cookie Decorating Class
DTSTART:20260502T143000Z
DTEND:20260502T160000Z
DESCRIPTION:Kids\, grab your favorite adult and come decorate spring c
 ookies together! A fun bonding experience for kids ages 5 and up. Each
  pair will work together to decorate 4 spring themed cookies for a mor
 ning of fun and creativity. Registration is required for this event.
LOCATION:FENCE Center
CATEGORIES:Family
CONTACT:828-859-9021\, info@fence.org
URL:https://www.hendobakingco.com/event-list
CLASS:PUBLIC
END:VEVENT
END:VCALENDAR
