BEGIN:VCALENDAR
PRODID:-//AT Content Types//AT Event//EN
VERSION:2.0
METHOD:PUBLISH
BEGIN:VEVENT
DTSTAMP:20260423T114850Z
CREATED:20170105T174052Z
UID:ATEvent-7c803de5dc4b4074a0a7bcdbff18a618
LAST-MODIFIED:20170517T160053Z
SUMMARY:Methods of EE Workshop
DTSTART:20170609T130000Z
DTEND:20170610T200000Z
LOCATION:FENCE Center
CATEGORIES:Training
CONTACT:Tracie Hanson\, 8288599021\, info@fence.org
CLASS:PUBLIC
END:VEVENT
END:VCALENDAR
