BEGIN:VCALENDAR
PRODID:-//AT Content Types//AT Event//EN
VERSION:2.0
METHOD:PUBLISH
BEGIN:VEVENT
DTSTAMP:20260423T095636Z
CREATED:20101120T214616Z
UID:ATEvent-84246e02-a710-4245-b5e6-f187102e5beb
LAST-MODIFIED:20101120T214616Z
SUMMARY:May 9: Gardening Seminar\, 10am
DTSTART:20110509T140000Z
DTEND:20110509T153000Z
DESCRIPTION:"Hide Your Power Box And Other Garden Eyesores"\, with Mas
 ter Gardener Sandra Scoggins. Free program.
LOCATION:Great Room
CATEGORIES:Nature Program
CONTACT:Rhonda Anderson\, 864-468-4848
CLASS:PUBLIC
END:VEVENT
END:VCALENDAR
