BEGIN:VCALENDAR
PRODID:-//AT Content Types//AT Event//EN
VERSION:1.0
BEGIN:VEVENT
DTSTART:20100508T120000Z
DTEND:20100509T200000Z
DCREATED:20091117T181933Z
UID:ATEvent-8add688e-85ed-478a-815d-6990b54d86db
SEQUENCE:0
LAST-MODIFIED:20091219T001055Z
SUMMARY:May 8/9 - Dressage Show
DESCRIPTION:Produced by Foothills Equestrian Events
LOCATION:Equestrian Center
PRIORITY:3
TRANSP:0
END:VEVENT
END:VCALENDAR
