BEGIN:VCALENDAR
PRODID:-//AT Content Types//AT Event//EN
VERSION:1.0
BEGIN:VEVENT
DTSTART:20110507T120000Z
DTEND:20110507T200000Z
DCREATED:20101117T183930Z
UID:ATEvent-7b1747bf-7340-4099-891d-6b41df0fb5bd
SEQUENCE:0
LAST-MODIFIED:20101117T183930Z
SUMMARY:May 7: FRC Horse Trials
PRIORITY:3
TRANSP:0
END:VEVENT
END:VCALENDAR
