BEGIN:VCALENDAR
PRODID:-//AT Content Types//AT Event//EN
VERSION:2.0
METHOD:PUBLISH
BEGIN:VEVENT
DTSTAMP:20260423T114734Z
CREATED:20101206T170146Z
UID:ATEvent-a58c97b2-e089-4c75-b668-b635c00f6dce
LAST-MODIFIED:20101206T170146Z
SUMMARY:May 7: Astronomy Program at sunset
DTSTART:20110507T230000Z
DTEND:20110508T020000Z
DESCRIPTION:"Stars of Spring". Meet at the top of Hawk Ridge\, behind 
 the FENCE Center. Telescopes provided. Free program presented by the F
 oothills Astronomical Society.
LOCATION:Hawk Ridge
CATEGORIES:Nature/Astronomy
CONTACT:Jim Cooper\, 828-859-8342
CLASS:PUBLIC
END:VEVENT
END:VCALENDAR
