BEGIN:VCALENDAR
PRODID:-//AT Content Types//AT Event//EN
VERSION:1.0
BEGIN:VEVENT
DTSTART:20110522T200000Z
DTEND:20110522T213000Z
DCREATED:20110412T181059Z
UID:ATEvent-f3ea23f3-897a-4b71-9bcf-f477025ccc7f
SEQUENCE:0
LAST-MODIFIED:20110509T152818Z
SUMMARY:May 22: The Armchair Traveler: Libya
DESCRIPTION:Norm Powers recounts his visit to Libya's antiquities site
 s just a week before the uprisings in an illustrated talk. Free progra
 m.
LOCATION:Great Room
PRIORITY:3
TRANSP:0
END:VEVENT
END:VCALENDAR
