BEGIN:VCALENDAR
PRODID:-//AT Content Types//AT Event//EN
VERSION:1.0
BEGIN:VEVENT
DTSTART:20100529T120000Z
DTEND:20100530T200000Z
DCREATED:20091117T182833Z
UID:ATEvent-e723da90-9d99-4ff0-9bdc-60fe16230e3d
SEQUENCE:0
LAST-MODIFIED:20091219T010631Z
SUMMARY:May 29 - 30: Carolina Carriage Club Show
DESCRIPTION:Combined Driving event. Public welcome.
LOCATION:Equestrian Center & Cross-country course
PRIORITY:3
TRANSP:0
END:VEVENT
END:VCALENDAR
