BEGIN:VCALENDAR
PRODID:-//AT Content Types//AT Event//EN
VERSION:1.0
BEGIN:VEVENT
DTSTART:20100521T233000Z
DTEND:20100522T010000Z
DCREATED:20091124T173328Z
UID:ATEvent-03f29515-f028-4539-8f00-2df047811ad1
SEQUENCE:0
LAST-MODIFIED:20091219T180645Z
SUMMARY:May 21: Foothills Astronomical Society meeting
DESCRIPTION:Public welcome. Enter through the rear entrance of our mai
 n building.
LOCATION:FENCE Center
PRIORITY:3
TRANSP:0
END:VEVENT
END:VCALENDAR
