BEGIN:VCALENDAR
PRODID:-//AT Content Types//AT Event//EN
VERSION:2.0
METHOD:PUBLISH
BEGIN:VEVENT
DTSTAMP:20260423T115707Z
CREATED:20091117T182409Z
UID:ATEvent-e6c71dbf-434e-4c51-a08b-e9bb2952b14e
LAST-MODIFIED:20091219T010603Z
SUMMARY:May 21 - 23: PSJ Hunter/Jumper Show
DTSTART:20100521T120000Z
DTEND:20100523T190000Z
LOCATION:Equestrian Center
CATEGORIES:Horse Show
CONTACT:Rick Cram\, 803-349-3505
URL:http://www.psjshows.com
CLASS:PUBLIC
END:VEVENT
END:VCALENDAR
