BEGIN:VCALENDAR
PRODID:-//AT Content Types//AT Event//EN
VERSION:1.0
BEGIN:VEVENT
DTSTART:20100516T120000Z
DTEND:20100516T200000Z
DCREATED:20100504T160028Z
UID:ATEvent-8c0ccf69-d32c-40f3-a299-67c64b63d0bb
SEQUENCE:0
LAST-MODIFIED:20100504T160028Z
SUMMARY:May 16: FRC Cross-Country Schooling
LOCATION:Cross-Country Course
PRIORITY:3
TRANSP:0
END:VEVENT
END:VCALENDAR
