BEGIN:VCALENDAR
PRODID:-//AT Content Types//AT Event//EN
VERSION:1.0
BEGIN:VEVENT
DTSTART:20100516T200000Z
DTEND:20100516T213000Z
DCREATED:20091117T182511Z
UID:ATEvent-b076a0d9-41f8-4ef3-9e03-fc00136cc0cf
SEQUENCE:0
LAST-MODIFIED:20100504T171722Z
SUMMARY:May 16 - Family Concert\, 4pm
DESCRIPTION:Pianist Beth Child and cellist Dr. Victor Izkersky perform
 . Free program
LOCATION:Great Room
PRIORITY:3
TRANSP:0
END:VEVENT
END:VCALENDAR
