BEGIN:VCALENDAR
PRODID:-//AT Content Types//AT Event//EN
VERSION:2.0
METHOD:PUBLISH
BEGIN:VEVENT
DTSTAMP:20260423T141935Z
CREATED:20091124T173207Z
UID:ATEvent-1f717063-e44b-4d86-8785-6df2204cc427
LAST-MODIFIED:20091219T180626Z
SUMMARY:May 15: Astronomy Program at sunset
DTSTART:20100515T233000Z
DTEND:20100516T030000Z
DESCRIPTION:Venus\, Mars and Saturn all in one picture. Program takes 
 place on the hill behind our main building. Telescopes provided. No pr
 ogram in case of rain or heavy cloud cover. Offered by the Foothills A
 stronomical Society.
LOCATION:H
CATEGORIES:Nature/Astronomy
CONTACT:828-859-8342
CLASS:PUBLIC
END:VEVENT
END:VCALENDAR
