BEGIN:VCALENDAR
PRODID:-//AT Content Types//AT Event//EN
VERSION:2.0
METHOD:PUBLISH
BEGIN:VEVENT
DTSTAMP:20260423T191605Z
CREATED:20101117T184112Z
UID:ATEvent-11c5af8b-a78a-43bf-9f9b-0bddbc9c88c7
LAST-MODIFIED:20101117T184112Z
SUMMARY:May 14 - 15: FEE Dressage Show
DTSTART:20110514T120000Z
DTEND:20110515T200000Z
LOCATION:Equestrian Center
CATEGORIES:Horse Show
CONTACT:Alicia Henderson\, 828-674-1885
CLASS:PUBLIC
END:VEVENT
END:VCALENDAR
