BEGIN:VCALENDAR
PRODID:-//AT Content Types//AT Event//EN
VERSION:2.0
METHOD:PUBLISH
BEGIN:VEVENT
DTSTAMP:20260423T131243Z
CREATED:20091117T172650Z
UID:ATEvent-6146dcb6-1769-435a-9b8a-7f443b709be4
LAST-MODIFIED:20091219T180604Z
SUMMARY:May 10 - Gardening Seminar
DTSTART:20100510T140000Z
DTEND:20100510T153000Z
DESCRIPTION:"English Gardens"\, with Master Gardener Linda Cobb
LOCATION:Great Room
CONTACT:828-859-9021\, info@fence.org
CLASS:PUBLIC
END:VEVENT
END:VCALENDAR
