BEGIN:VCALENDAR
PRODID:-//AT Content Types//AT Event//EN
VERSION:2.0
METHOD:PUBLISH
BEGIN:VEVENT
DTSTAMP:20260423T142556Z
CREATED:20091117T182208Z
UID:ATEvent-a1f1b6f5-eea0-4e27-bcbc-50ab20bff3e6
LAST-MODIFIED:20100303T164144Z
SUMMARY:May 10 - 16: National Specialty Border Terrier Show
DTSTART:20100510T120000Z
DTEND:20100516T190000Z
LOCATION:Equestrian Center
CATEGORIES:Dog Show
URL:http://www.btcoa.org/events/specialtyfut.html
CLASS:PUBLIC
END:VEVENT
END:VCALENDAR
