BEGIN:VCALENDAR
PRODID:-//AT Content Types//AT Event//EN
VERSION:1.0
BEGIN:VEVENT
DTSTART:20100308T150000Z
DTEND:20100308T163000Z
DCREATED:20091117T172343Z
UID:ATEvent-3b05c8ee-75cb-414f-8c0e-b1a613714803
SEQUENCE:0
LAST-MODIFIED:20091219T180244Z
SUMMARY:March 8 - Gardening Seminar\, 10am
DESCRIPTION:"Correct Pruning" with Rhonda Anderson of Motlow Creek Gar
 dens. Free program
LOCATION:Great Room
PRIORITY:3
TRANSP:0
END:VEVENT
END:VCALENDAR
