BEGIN:VCALENDAR
PRODID:-//AT Content Types//AT Event//EN
VERSION:2.0
METHOD:PUBLISH
BEGIN:VEVENT
DTSTAMP:20260423T131329Z
CREATED:20091117T175546Z
UID:ATEvent-131383a2-4e87-4b55-a725-dfdcf9322e71
LAST-MODIFIED:20091219T010458Z
SUMMARY:March 6 - FRC Combined Test
DTSTART:20100306T130000Z
DTEND:20100306T230000Z
LOCATION:Equestrian Center
CATEGORIES:Trials
CONTACT:Margo Savage\, 828-863-4924
URL:http://www.foothillsridingclub.org
CLASS:PUBLIC
END:VEVENT
END:VCALENDAR
