BEGIN:VCALENDAR
PRODID:-//AT Content Types//AT Event//EN
VERSION:2.0
METHOD:PUBLISH
BEGIN:VEVENT
DTSTAMP:20260423T205519Z
CREATED:20110202T214118Z
UID:ATEvent-173d477c-848d-4ad4-98e0-6543d68b6ef5
LAST-MODIFIED:20110307T202943Z
SUMMARY:March 27: Family Concert
DTSTART:20110327T200000Z
DTEND:20110327T213000Z
DESCRIPTION:Joseph and Kathleen Erwin perform on piano and violin. Fre
 e program with the support of the Kirby Endowment Fund at the Polk Cou
 nty Community Foundation.
LOCATION:Great Room
CATEGORIES:Family
CONTACT:828-859-9021\, info@fence.org
CLASS:PUBLIC
END:VEVENT
END:VCALENDAR
